BEGIN:VCALENDAR
VERSION:2.0
PRODID:-//Chiara Luisetto - ECPv6.15.17.1//NONSGML v1.0//EN
CALSCALE:GREGORIAN
METHOD:PUBLISH
X-WR-CALNAME:Chiara Luisetto
X-ORIGINAL-URL:https://chiaraluisetto.it
X-WR-CALDESC:Eventi per Chiara Luisetto
REFRESH-INTERVAL;VALUE=DURATION:PT1H
X-Robots-Tag:noindex
X-PUBLISHED-TTL:PT1H
BEGIN:VTIMEZONE
TZID:Europe/Rome
BEGIN:DAYLIGHT
TZOFFSETFROM:+0100
TZOFFSETTO:+0200
TZNAME:CEST
DTSTART:20240331T010000
END:DAYLIGHT
BEGIN:STANDARD
TZOFFSETFROM:+0200
TZOFFSETTO:+0100
TZNAME:CET
DTSTART:20241027T010000
END:STANDARD
BEGIN:DAYLIGHT
TZOFFSETFROM:+0100
TZOFFSETTO:+0200
TZNAME:CEST
DTSTART:20250330T010000
END:DAYLIGHT
BEGIN:STANDARD
TZOFFSETFROM:+0200
TZOFFSETTO:+0100
TZNAME:CET
DTSTART:20251026T010000
END:STANDARD
BEGIN:DAYLIGHT
TZOFFSETFROM:+0100
TZOFFSETTO:+0200
TZNAME:CEST
DTSTART:20260329T010000
END:DAYLIGHT
BEGIN:STANDARD
TZOFFSETFROM:+0200
TZOFFSETTO:+0100
TZNAME:CET
DTSTART:20261025T010000
END:STANDARD
END:VTIMEZONE
BEGIN:VEVENT
DTSTART;TZID=Europe/Rome:20251116T170000
DTEND;TZID=Europe/Rome:20251116T183000
DTSTAMP:20260419T154915
CREATED:20251115T170546Z
LAST-MODIFIED:20251115T170546Z
UID:737-1763312400-1763317800@chiaraluisetto.it
SUMMARY:Dibattito - Sanità\, ambiente\, casa\, lavoro\, cultura
DESCRIPTION:Con i candidati locali che sostengono Giovanni Manildo \nIntervengono: \nChiara Luisetto (PD)\nAntonella Bizzotto (Liste civiche)\nSimone Contro (Movimento 5 Stelle)\nRedento Geremia (Pace/salute/lavoro /Rifond.Comunista)\nRenzo Masolo (AVS)
URL:https://chiaraluisetto.it/agenda/dibattito-sanita-ambiente-casa-lavoro-cultura/
LOCATION:Sala convegni Hotel Palladio\, Via Gramsci 2\, Bassano Del Grappa\, Italy
ATTACH;FMTTYPE=image/jpeg:https://chiaraluisetto.it/wp-content/uploads/2025/11/WhatsApp-Image-2025-11-14-at-13.37.20.jpeg
END:VEVENT
BEGIN:VEVENT
DTSTART;TZID=Europe/Rome:20251116T183000
DTEND;TZID=Europe/Rome:20251116T200000
DTSTAMP:20260419T154915
CREATED:20251110T114211Z
LAST-MODIFIED:20251110T114211Z
UID:710-1763317800-1763323200@chiaraluisetto.it
SUMMARY:Evento - Aperitivo con Chiara Luisetto e Luca Cislaghi
DESCRIPTION:La cittadinanza è invitata a scoprire i due candidati alle prossime elezioni regionali in Veneto!
URL:https://chiaraluisetto.it/agenda/evento-aperitivo-con-chiara-luisetto-e-luca-cislaghi/
LOCATION:Caffé Commercio\, Piazza Vittorio Emanuele 7\, Sandrigo\, Italy
ATTACH;FMTTYPE=image/jpeg:https://chiaraluisetto.it/wp-content/uploads/2025/11/WhatsApp-Image-2025-11-10-at-11.12.15.jpeg
END:VEVENT
END:VCALENDAR