BEGIN:VCALENDAR
VERSION:2.0
PRODID:-//Chiara Luisetto - ECPv6.15.17.1//NONSGML v1.0//EN
CALSCALE:GREGORIAN
METHOD:PUBLISH
X-WR-CALNAME:Chiara Luisetto
X-ORIGINAL-URL:https://chiaraluisetto.it
X-WR-CALDESC:Eventi per Chiara Luisetto
REFRESH-INTERVAL;VALUE=DURATION:PT1H
X-Robots-Tag:noindex
X-PUBLISHED-TTL:PT1H
BEGIN:VTIMEZONE
TZID:Europe/Rome
BEGIN:DAYLIGHT
TZOFFSETFROM:+0100
TZOFFSETTO:+0200
TZNAME:CEST
DTSTART:20240331T010000
END:DAYLIGHT
BEGIN:STANDARD
TZOFFSETFROM:+0200
TZOFFSETTO:+0100
TZNAME:CET
DTSTART:20241027T010000
END:STANDARD
BEGIN:DAYLIGHT
TZOFFSETFROM:+0100
TZOFFSETTO:+0200
TZNAME:CEST
DTSTART:20250330T010000
END:DAYLIGHT
BEGIN:STANDARD
TZOFFSETFROM:+0200
TZOFFSETTO:+0100
TZNAME:CET
DTSTART:20251026T010000
END:STANDARD
BEGIN:DAYLIGHT
TZOFFSETFROM:+0100
TZOFFSETTO:+0200
TZNAME:CEST
DTSTART:20260329T010000
END:DAYLIGHT
BEGIN:STANDARD
TZOFFSETFROM:+0200
TZOFFSETTO:+0100
TZNAME:CET
DTSTART:20261025T010000
END:STANDARD
END:VTIMEZONE
BEGIN:VEVENT
DTSTART;TZID=Europe/Rome:20251114T170000
DTEND;TZID=Europe/Rome:20251114T183000
DTSTAMP:20260421T105541
CREATED:20251114T102447Z
LAST-MODIFIED:20251114T105540Z
UID:725-1763139600-1763145000@chiaraluisetto.it
SUMMARY:Evento - Aperitivo con i candidati
DESCRIPTION:In vista delle elezioni regionali del 23 e 24 novembre\, parliamo con Chiara Luisetto\, consigliera regionale e candidata capolista PD a Vicenza\, e Antonio Marco Dalla Pozza\, candidato PD.
URL:https://chiaraluisetto.it/agenda/evento-aperitivo-con-i-candidati/
ATTACH;FMTTYPE=image/jpeg:https://chiaraluisetto.it/wp-content/uploads/2025/11/9534d891-cedd-439e-9ad8-24804c785e3d.jpg
END:VEVENT
BEGIN:VEVENT
DTSTART;TZID=Europe/Rome:20251114T183000
DTEND;TZID=Europe/Rome:20251114T200000
DTSTAMP:20260421T105541
CREATED:20251114T103614Z
LAST-MODIFIED:20251114T103643Z
UID:728-1763145000-1763150400@chiaraluisetto.it
SUMMARY:Dibattito - SICUREZZA: Dalla situazione geopolitica al governo delle città
DESCRIPTION:Interventi di:\nLorenzo GUERINI\, Deputato e Presidente COPASIR\, già Ministro della Difesa\nAlessandra MORETTI\, Eurodeputata\nGiovanni MANILDO\, Candidato Presidente Regione Veneto\nAchille VARIATI\, Presidente Ipab\, già Sottosegretario dell’Interno\nChiara LUISETTO\, Consigliera Regionale e candidata PD Elezioni Regionali Veneto 2025\nAntonio Marco DALLA POZZA\, Candidato PD Elezioni Regionali Veneto 2025 \nSaluti introduttivi:\nCorrado BATTILANA\, Segretario Partito Democratico della Città di Vicenza\nGiacomo BEZ\, Capogruppo Partito Democratico – Comune di Vicenza\nClementine Carole NGAH BILOA\, Candidata al Consiglio regionale Veneto \nModera:\nMatilde LUPI\, Studentessa e rappresentante degli studenti Liceo G.B. Quadri
URL:https://chiaraluisetto.it/agenda/dibattito-sicurezza-dalla-situazione-geopolitica-al-governo-delle-citta/
LOCATION:Chiostri di S.Corona\, Contrà S. Corona\, 6\, Vicenza\, Italy
ATTACH;FMTTYPE=image/jpeg:https://chiaraluisetto.it/wp-content/uploads/2025/11/a76a8915-bbde-42bb-b5ba-3a13666e5fb5.jpg
END:VEVENT
END:VCALENDAR