BEGIN:VCALENDAR
VERSION:2.0
PRODID:-//Chiara Luisetto - ECPv6.15.17.1//NONSGML v1.0//EN
CALSCALE:GREGORIAN
METHOD:PUBLISH
X-WR-CALNAME:Chiara Luisetto
X-ORIGINAL-URL:https://chiaraluisetto.it
X-WR-CALDESC:Eventi per Chiara Luisetto
REFRESH-INTERVAL;VALUE=DURATION:PT1H
X-Robots-Tag:noindex
X-PUBLISHED-TTL:PT1H
BEGIN:VTIMEZONE
TZID:Europe/Rome
BEGIN:DAYLIGHT
TZOFFSETFROM:+0100
TZOFFSETTO:+0200
TZNAME:CEST
DTSTART:20240331T010000
END:DAYLIGHT
BEGIN:STANDARD
TZOFFSETFROM:+0200
TZOFFSETTO:+0100
TZNAME:CET
DTSTART:20241027T010000
END:STANDARD
BEGIN:DAYLIGHT
TZOFFSETFROM:+0100
TZOFFSETTO:+0200
TZNAME:CEST
DTSTART:20250330T010000
END:DAYLIGHT
BEGIN:STANDARD
TZOFFSETFROM:+0200
TZOFFSETTO:+0100
TZNAME:CET
DTSTART:20251026T010000
END:STANDARD
BEGIN:DAYLIGHT
TZOFFSETFROM:+0100
TZOFFSETTO:+0200
TZNAME:CEST
DTSTART:20260329T010000
END:DAYLIGHT
BEGIN:STANDARD
TZOFFSETFROM:+0200
TZOFFSETTO:+0100
TZNAME:CET
DTSTART:20261025T010000
END:STANDARD
END:VTIMEZONE
BEGIN:VEVENT
DTSTART;TZID=Europe/Rome:20251110T150000
DTEND;TZID=Europe/Rome:20251110T163000
DTSTAMP:20260421T103359
CREATED:20251104T215445Z
LAST-MODIFIED:20251104T215445Z
UID:686-1762786800-1762792200@chiaraluisetto.it
SUMMARY:Dibattito - Quale sanità per la montagna? I nostri progetti per il Veneto
DESCRIPTION:Ne parliamo con:\nChiara Luisetto – Consigliera Regionale e Candidata PD a Vicenza\nMattea Stella – Candidata PD \ne con: dott.ssa Annarita Rigoni\, dott.ssa Daniela Polato\, dott. Giuseppe De Faci\, dott. Paolo Fabris \nospite: Paolo Mantese\nmodera: Antonella Mosele
URL:https://chiaraluisetto.it/agenda/dibattito-quale-sanita-per-la-montagna-i-nostri-progetti-per-il-veneto/
LOCATION:Hotel Milano\, Via Brigata Liguria\, 15\, Asiago\, Italy
ATTACH;FMTTYPE=image/jpeg:https://chiaraluisetto.it/wp-content/uploads/2025/11/WhatsApp-Image-2025-11-04-at-14.06.09.jpeg
END:VEVENT
BEGIN:VEVENT
DTSTART;TZID=Europe/Rome:20251110T180000
DTEND;TZID=Europe/Rome:20251110T193000
DTSTAMP:20260421T103359
CREATED:20251103T180751Z
LAST-MODIFIED:20251103T180751Z
UID:680-1762797600-1762803000@chiaraluisetto.it
SUMMARY:Evento - Incontro e aperitivo con i candidati
DESCRIPTION:Intervengono:\nChiara Luisetto\, Consigliera regionale e capolista PD a Vicenza\nLuca Cislaghi\, Candidato PD
URL:https://chiaraluisetto.it/agenda/evento-incontro-e-aperitivo-con-i-candidati/
LOCATION:Osteria “Al Pelado”\, Via Centro 29\, Cogollo del Cengio\, Italy
ATTACH;FMTTYPE=image/jpeg:https://chiaraluisetto.it/wp-content/uploads/2025/11/74f5f7ca-a97a-40c5-9c2b-953010687fc1.jpg
END:VEVENT
BEGIN:VEVENT
DTSTART;TZID=Europe/Rome:20251110T203000
DTEND;TZID=Europe/Rome:20251110T220000
DTSTAMP:20260421T103359
CREATED:20251027T162327Z
LAST-MODIFIED:20251027T163731Z
UID:618-1762806600-1762812000@chiaraluisetto.it
SUMMARY:Dibattito -  Le nostre proposte per il Veneto: tra sociale e ambiente perché serve cambiare passo
DESCRIPTION:Dibattito coi candidati alle prossime regionali venete del 23 e 24 novembre!\nLe nostre proposte per il Veneto: tra sociale e ambiente perché serve cambiare passo.\nNe parliamo con Chiara Luisetto\, consigliera regionale e capolista PD a Vicenza Chiara Luisetto e Stefano Cislaghi\, candidato PD. Modere l’incontro: Luca Mocellin\, consigliere comunale di Tezze sul Brenta
URL:https://chiaraluisetto.it/agenda/dibattito-le-nostre-proposte-per-il-veneto-tra-sociale-e-ambiente-perche-serve-cambiare-passo/
LOCATION:Sala Elio Peruzzo\, Via Mons Filippi 50\, Rosà\, Italy
ATTACH;FMTTYPE=image/jpeg:https://chiaraluisetto.it/wp-content/uploads/2025/10/WhatsApp-Image-2025-10-27-at-12.43.55.jpeg
END:VEVENT
END:VCALENDAR