BEGIN:VCALENDAR
VERSION:2.0
PRODID:-//Chiara Luisetto - ECPv6.15.17.1//NONSGML v1.0//EN
CALSCALE:GREGORIAN
METHOD:PUBLISH
X-WR-CALNAME:Chiara Luisetto
X-ORIGINAL-URL:https://chiaraluisetto.it
X-WR-CALDESC:Eventi per Chiara Luisetto
REFRESH-INTERVAL;VALUE=DURATION:PT1H
X-Robots-Tag:noindex
X-PUBLISHED-TTL:PT1H
BEGIN:VTIMEZONE
TZID:Europe/Rome
BEGIN:DAYLIGHT
TZOFFSETFROM:+0100
TZOFFSETTO:+0200
TZNAME:CEST
DTSTART:20240331T010000
END:DAYLIGHT
BEGIN:STANDARD
TZOFFSETFROM:+0200
TZOFFSETTO:+0100
TZNAME:CET
DTSTART:20241027T010000
END:STANDARD
BEGIN:DAYLIGHT
TZOFFSETFROM:+0100
TZOFFSETTO:+0200
TZNAME:CEST
DTSTART:20250330T010000
END:DAYLIGHT
BEGIN:STANDARD
TZOFFSETFROM:+0200
TZOFFSETTO:+0100
TZNAME:CET
DTSTART:20251026T010000
END:STANDARD
BEGIN:DAYLIGHT
TZOFFSETFROM:+0100
TZOFFSETTO:+0200
TZNAME:CEST
DTSTART:20260329T010000
END:DAYLIGHT
BEGIN:STANDARD
TZOFFSETFROM:+0200
TZOFFSETTO:+0100
TZNAME:CET
DTSTART:20261025T010000
END:STANDARD
END:VTIMEZONE
BEGIN:VEVENT
DTSTART;TZID=Europe/Rome:20251107T180000
DTEND;TZID=Europe/Rome:20251107T200000
DTSTAMP:20260421T104747
CREATED:20251010T121338Z
LAST-MODIFIED:20251010T121436Z
UID:526-1762538400-1762545600@chiaraluisetto.it
SUMMARY:Dibattito - Elettori 5.0: Innovazione e Politica
DESCRIPTION:Nel contesto della campagna elettorale per le prossime regionali in Veneto del 23 e 24 novembre\, una serata di dibattito su innovazione e politica con i candidati in provincia di Vicenza. \nIntroduce:\nStefano Dal Pra Caputo\, consigliere comunale e ricercatore \nSpeaker:\nChiara Luisetto\, Partito Democratico\nJacopo Maltauro\, Forza Italia\nAdriana Carotti\, Alleanza Verdi Sinistra \nModera:\nCaterina M. Busato \nConclude:\nMatteo Pozzi\, CEO Elevator
URL:https://chiaraluisetto.it/agenda/dibattito-elettori-5-0-innovazione-e-politica/
LOCATION:Elevator Innovation Hub\, Viale Arnaldo Fusinato 8\, Vicenza\, Italy
ATTACH;FMTTYPE=image/png:https://chiaraluisetto.it/wp-content/uploads/2025/10/Locandina-dibattito.png
END:VEVENT
BEGIN:VEVENT
DTSTART;TZID=Europe/Rome:20251107T203000
DTEND;TZID=Europe/Rome:20251107T220000
DTSTAMP:20260421T104747
CREATED:20251027T114316Z
LAST-MODIFIED:20251027T114316Z
UID:613-1762547400-1762552800@chiaraluisetto.it
SUMMARY:Dibattito - Diamo voce a chi si prende cura
DESCRIPTION:Le politiche sociali in Veneto e a Roma! Ne discutono insieme: Chiara Luisetto\, consigliera regionale e candidata capolista del PD a Vicenza\, e Marco Furfaro\, Parlamentare e membro della Commissione Affari Sociali della Camera.
URL:https://chiaraluisetto.it/agenda/dibattito-diamo-voce-a-chi-si-prende-cura/
LOCATION:Sala Zanolli Villanova\, Via Padre Roberto 50\, Nove\, Italy
ATTACH;FMTTYPE=image/jpeg:https://chiaraluisetto.it/wp-content/uploads/2025/10/PHOTO-2025-10-21-17-06-30.jpg
END:VEVENT
END:VCALENDAR