BEGIN:VCALENDAR
VERSION:2.0
PRODID:-//Chiara Luisetto - ECPv6.15.17.1//NONSGML v1.0//EN
CALSCALE:GREGORIAN
METHOD:PUBLISH
X-ORIGINAL-URL:https://chiaraluisetto.it
X-WR-CALDESC:Eventi per Chiara Luisetto
REFRESH-INTERVAL;VALUE=DURATION:PT1H
X-Robots-Tag:noindex
X-PUBLISHED-TTL:PT1H
BEGIN:VTIMEZONE
TZID:Europe/Rome
BEGIN:DAYLIGHT
TZOFFSETFROM:+0100
TZOFFSETTO:+0200
TZNAME:CEST
DTSTART:20240331T010000
END:DAYLIGHT
BEGIN:STANDARD
TZOFFSETFROM:+0200
TZOFFSETTO:+0100
TZNAME:CET
DTSTART:20241027T010000
END:STANDARD
BEGIN:DAYLIGHT
TZOFFSETFROM:+0100
TZOFFSETTO:+0200
TZNAME:CEST
DTSTART:20250330T010000
END:DAYLIGHT
BEGIN:STANDARD
TZOFFSETFROM:+0200
TZOFFSETTO:+0100
TZNAME:CET
DTSTART:20251026T010000
END:STANDARD
BEGIN:DAYLIGHT
TZOFFSETFROM:+0100
TZOFFSETTO:+0200
TZNAME:CEST
DTSTART:20260329T010000
END:DAYLIGHT
BEGIN:STANDARD
TZOFFSETFROM:+0200
TZOFFSETTO:+0100
TZNAME:CET
DTSTART:20261025T010000
END:STANDARD
END:VTIMEZONE
BEGIN:VEVENT
DTSTART;TZID=Europe/Rome:20251030T100000
DTEND;TZID=Europe/Rome:20251030T120000
DTSTAMP:20260419T153614
CREATED:20251030T065819Z
LAST-MODIFIED:20251030T065819Z
UID:628-1761818400-1761825600@chiaraluisetto.it
SUMMARY:Dibattito - Per un nuovo patto sociale: la sfida dei servizi tra sostenibilità e prossimità
DESCRIPTION:Saluti: Alessandro Crivellaro\, Sindaco di Breganze \nIntroduce e modera: Chiara Luisetto\, Consigliera regionale e capolista PD a Vicenza \nTavolo 1 – Non autosufficienza e ruolo dei caregiver: prospettive nazionali \n– Cristiano Gori\, Coordinatore Patto per un nuovo Welfare sulla non autosufficienza (in collegamento) \n– Ilenia Malavasi\, deputata\, prima firmataria Pdl Caregiver familiari \n– Barbara Rosina\, Presidente Consiglio nazionale Ordine Assistenti Sociali \nTavolo 2 – L’Agenda sociale per il Veneto \n– Anna Sara Fasoli\, Vicepresidente Legacoop Veneto \n– Riccardo Frigo\, Consigliere Confcooperative-Federsolidarietà Veneto \n– Vanni Poli\, Anffas Veneto (video)
URL:https://chiaraluisetto.it/agenda/dibattito-per-un-nuovo-patto-sociale-la-sfida-dei-servizi-tra-sostenibilita-e-prossimita/
LOCATION:Sala Polifunzionale Alda Merini\, Via Gen. Maglietta\, 39\, Breganze\, Italy
ATTACH;FMTTYPE=image/jpeg:https://chiaraluisetto.it/wp-content/uploads/2025/10/IMG_D948E945EA9B-1.jpeg
END:VEVENT
BEGIN:VEVENT
DTSTART;TZID=Europe/Rome:20251030T203000
DTEND;TZID=Europe/Rome:20251030T220000
DTSTAMP:20260419T153614
CREATED:20251027T113459Z
LAST-MODIFIED:20251027T113459Z
UID:608-1761856200-1761861600@chiaraluisetto.it
SUMMARY:Dibattito - Per una voce Chiara in Regione
DESCRIPTION:Dibattito in vista delle prossime elezioni regionali venete del 23 e 24 novembre! Il circolo PD di Dueville incontra Chiara Luisetto\, consigliera regionale e capolista PD a Vicenza. Saranno presenti anche gli alti candidati e le altre candidate della lista democratica.
URL:https://chiaraluisetto.it/agenda/dibattito-per-una-voce-chiara-in-regione/
LOCATION:Centro Arnaldi\, Via Rossi 35\, Dueville\, Italy
ATTACH;FMTTYPE=image/jpeg:https://chiaraluisetto.it/wp-content/uploads/2025/10/WhatsApp-Image-2025-10-13-at-09.11.25.jpeg
END:VEVENT
END:VCALENDAR