BEGIN:VCALENDAR
VERSION:2.0
PRODID:-//Chiara Luisetto - ECPv6.15.17.1//NONSGML v1.0//EN
CALSCALE:GREGORIAN
METHOD:PUBLISH
X-WR-CALNAME:Chiara Luisetto
X-ORIGINAL-URL:https://chiaraluisetto.it
X-WR-CALDESC:Eventi per Chiara Luisetto
REFRESH-INTERVAL;VALUE=DURATION:PT1H
X-Robots-Tag:noindex
X-PUBLISHED-TTL:PT1H
BEGIN:VTIMEZONE
TZID:Europe/Rome
BEGIN:DAYLIGHT
TZOFFSETFROM:+0100
TZOFFSETTO:+0200
TZNAME:CEST
DTSTART:20240331T010000
END:DAYLIGHT
BEGIN:STANDARD
TZOFFSETFROM:+0200
TZOFFSETTO:+0100
TZNAME:CET
DTSTART:20241027T010000
END:STANDARD
BEGIN:DAYLIGHT
TZOFFSETFROM:+0100
TZOFFSETTO:+0200
TZNAME:CEST
DTSTART:20250330T010000
END:DAYLIGHT
BEGIN:STANDARD
TZOFFSETFROM:+0200
TZOFFSETTO:+0100
TZNAME:CET
DTSTART:20251026T010000
END:STANDARD
BEGIN:DAYLIGHT
TZOFFSETFROM:+0100
TZOFFSETTO:+0200
TZNAME:CEST
DTSTART:20260329T010000
END:DAYLIGHT
BEGIN:STANDARD
TZOFFSETFROM:+0200
TZOFFSETTO:+0100
TZNAME:CET
DTSTART:20261025T010000
END:STANDARD
END:VTIMEZONE
BEGIN:VEVENT
DTSTART;TZID=Europe/Rome:20251028T203000
DTEND;TZID=Europe/Rome:20251028T220000
DTSTAMP:20260421T103320
CREATED:20251002T111713Z
LAST-MODIFIED:20251002T111713Z
UID:493-1761683400-1761688800@chiaraluisetto.it
SUMMARY:Dibattito - Costruire insieme il nostro futuro: salute\, ambiente\, viabilità
DESCRIPTION:Dibattito in occasione della competizione elettorale regionale in Veneto e del voto previsto per il 23 e 24 novembre! Chiara Luisetto\, Consigliera regionale e capolista a Vicenza per il Partito Democratico\, e Diego Zaffari\, consigliere comunale ad Arzignano e candidato PD per le regionali a Vicenza\, discutono di salute\, ambiente e viabilità!
URL:https://chiaraluisetto.it/agenda/dibattito-costruire-insieme-il-nostro-futuro-salute-ambiente-viabilita/
LOCATION:Sala Vecchia Filanda\, Via Vicolo Cavour\, 1\, Cornaredo\, Italy
ATTACH;FMTTYPE=image/jpeg:https://chiaraluisetto.it/wp-content/uploads/2025/10/Cornedo_28ott_page-0001-scaled.jpg
END:VEVENT
END:VCALENDAR